BEGIN:VCALENDAR
VERSION:2.0
CALSCALE:GREGORIAN
METHOD:PUBLISH
BEGIN:VEVENT
SUMMARY:Jačanje konkurentnosti kroz privatna ulaganja
DESCRIPTION:AmCham Hrvatska i Svjetska banka suorganiziraju konferenciju usmjerenu na jačanje ekonomske konkurentnosti Hrvatske kroz povećanje privatnih ulaganja i rast produktivnosti.
LOCATION:Sheraton Zagreb Hotel, Ul. kneza Borne 2
DTSTART:20260526T080000Z
DTEND:20260526T100000Z
END:VEVENT
END:VCALENDAR
