BEGIN:VCALENDAR
VERSION:2.0
CALSCALE:GREGORIAN
METHOD:PUBLISH
BEGIN:VEVENT
SUMMARY:Pravni izazovi i najbolja praksa u istragama nepravilnosti
DESCRIPTION:Na prvom seminaru u 2026. godini odvjetnici Dora Horvat i Boris Dvoršćak govorit će se o ključnim pravnim pitanjima u slučaju istraga i inspekcija u korporacijama. Seminar je samo za AmCham članove i besplatan je.
LOCATION:AmCham, Strojarska cesta 22
DTSTART:20260205T14:00Z
DTEND:20260205T16:00Z
END:VEVENT
END:VCALENDAR
