BEGIN:VCALENDAR
VERSION:2.0
CALSCALE:GREGORIAN
METHOD:PUBLISH
BEGIN:VEVENT
SUMMARY:GM Breakfast - 17. travnja 2026.
DESCRIPTION:GM Breakfast je malo i neformalno okupljanje glavnih direktora kompanija članica AmCham-a.
LOCATION:Sheraton Zagreb Hotel, Kneza Borne 2
DTSTART:20260417T09:00Z
DTEND:20260417T10:30Z
END:VEVENT
END:VCALENDAR
