BEGIN:VCALENDAR
VERSION:2.0
CALSCALE:GREGORIAN
METHOD:PUBLISH
BEGIN:VEVENT
SUMMARY:Member seminar - Pick Your Priorities: Thriving Amid Volatility and Uncertainty
DESCRIPTION:AmCham sa zadovoljstvom najavljuje member seminar o vodstvu koji će održati Christian Dekoninck, viši suradnik u Management Center Europe (MCE).
LOCATION:AmCham, Strojarska cesta 22
DTSTART:20251208T15:00Z
DTEND:20251208T17:00Z
END:VEVENT
END:VCALENDAR
