BEGIN:VCALENDAR
VERSION:2.0
CALSCALE:GREGORIAN
METHOD:PUBLISH
BEGIN:VEVENT
SUMMARY:Digital Economy and AI: Development and Regulatory Framework
DESCRIPTION:We are pleased to announce that Ms. Maja Vitaljić, Acting Director General of the Directorate for Digital Economy at the Ministry of Justice, Public Administration and Digital Transformation, will be a speaker at the meeting of the Digital Economy Committee. Participation in the meeting is open to all AmCham members.
LOCATION:AmCham office, Strojarska 22
DTSTART:20260219T080000Z
DTEND:20260219T100000Z
END:VEVENT
END:VCALENDAR
