BEGIN:VCALENDAR
VERSION:2.0
CALSCALE:GREGORIAN
METHOD:PUBLISH
BEGIN:VEVENT
SUMMARY:GM Brunch in Varaždin - May 8, 2026
DESCRIPTION:GM Brunch is a small and informal gathering of members' general managers/CEOs and guests.
LOCATION:Restoran Bedem, Ul. Vladimira Nazora 9, 42000 Varaždin
DTSTART:20260508T11:00Z
DTEND:20260508T13:00Z
END:VEVENT
END:VCALENDAR
