BEGIN:VCALENDAR
VERSION:2.0
CALSCALE:GREGORIAN
METHOD:PUBLISH
BEGIN:VEVENT
SUMMARY:Sustainable Healthcare Financing: Challenges, Perspectives, and Lessons Learned
DESCRIPTION:AmCham is pleased to announce a guest lecture by Domagoj Dodig PhD, Head of the Financial Affairs Sector at the Ministry of Health, on the topic of sustainable health care financing.
LOCATION:DoubleTree by Hilton Hotel Zagreb, Ulica grada Vukovara 269a
DTSTART:20260120T080000Z
DTEND:20260120T100000Z
END:VEVENT
END:VCALENDAR
