BEGIN:VCALENDAR
VERSION:2.0
CALSCALE:GREGORIAN
METHOD:PUBLISH
BEGIN:VEVENT
SUMMARY:Novelties in the Court Register
DESCRIPTION:We are pleased to announce a Power Breakfast on the topic of the new features introduced in the Court Register. This event is intended for legal professionals and attorneys who use the register for business purposes.
LOCATION:Westin Hotel Zagreb
DTSTART:20250924T080000Z
DTEND:20250924T100000Z
END:VEVENT
END:VCALENDAR
